BEGIN:VCALENDAR
VERSION:2.0
PRODID:-//Veranstaltungszentrum Kaiserwinkl [VZK] - ECPv6.15.20//NONSGML v1.0//EN
CALSCALE:GREGORIAN
METHOD:PUBLISH
X-WR-CALNAME:Veranstaltungszentrum Kaiserwinkl [VZK]
X-ORIGINAL-URL:https://www.vz-kaiserwinkl.at
X-WR-CALDESC:Veranstaltungen für Veranstaltungszentrum Kaiserwinkl [VZK]
REFRESH-INTERVAL;VALUE=DURATION:PT1H
X-Robots-Tag:noindex
X-PUBLISHED-TTL:PT1H
BEGIN:VTIMEZONE
TZID:Europe/Vienna
BEGIN:DAYLIGHT
TZOFFSETFROM:+0100
TZOFFSETTO:+0200
TZNAME:CEST
DTSTART:20190331T010000
END:DAYLIGHT
BEGIN:STANDARD
TZOFFSETFROM:+0200
TZOFFSETTO:+0100
TZNAME:CET
DTSTART:20191027T010000
END:STANDARD
BEGIN:DAYLIGHT
TZOFFSETFROM:+0100
TZOFFSETTO:+0200
TZNAME:CEST
DTSTART:20200329T010000
END:DAYLIGHT
BEGIN:STANDARD
TZOFFSETFROM:+0200
TZOFFSETTO:+0100
TZNAME:CET
DTSTART:20201025T010000
END:STANDARD
BEGIN:DAYLIGHT
TZOFFSETFROM:+0100
TZOFFSETTO:+0200
TZNAME:CEST
DTSTART:20210328T010000
END:DAYLIGHT
BEGIN:STANDARD
TZOFFSETFROM:+0200
TZOFFSETTO:+0100
TZNAME:CET
DTSTART:20211031T010000
END:STANDARD
END:VTIMEZONE
BEGIN:VEVENT
DTSTART;VALUE=DATE:20200417
DTEND;VALUE=DATE:20200420
DTSTAMP:20260423T075139
CREATED:20200117T092410Z
LAST-MODIFIED:20200316T103444Z
UID:2931-1587081600-1587340799@www.vz-kaiserwinkl.at
SUMMARY:ABGESAGT!! - 1. Gesundheitstage der Gemeinde Kössen
DESCRIPTION:Leider müssen aus gegebenen Anlass die 1. Gesundheitstage der Gemeinde Kössen vom 17. – 19. April 2020 auch abgesagt werden!! Neuer Termin folgt!!\n\n \nNeuer Termin folgt!
URL:https://www.vz-kaiserwinkl.at/event/1-gesundheitstage-der-gemeinde-koessen/
LOCATION:VZ Kaiserwinkl\, Postweg 6a\, Kössen\, 6345\, Österreich
CATEGORIES:2020
ATTACH;FMTTYPE=image/jpeg:https://www.vz-kaiserwinkl.at/wp-content/uploads/2020/01/Gesundheitstage_2020.jpg
ORGANIZER;CN="Gemeinde K%C3%B6ssen":MAILTO:gemeinde@koessen.tirol.gv.at
END:VEVENT
END:VCALENDAR