BEGIN:VCALENDAR
VERSION:2.0
PRODID:-//Veranstaltungszentrum Kaiserwinkl [VZK] - ECPv6.15.20//NONSGML v1.0//EN
CALSCALE:GREGORIAN
METHOD:PUBLISH
X-WR-CALNAME:Veranstaltungszentrum Kaiserwinkl [VZK]
X-ORIGINAL-URL:https://www.vz-kaiserwinkl.at
X-WR-CALDESC:Veranstaltungen für Veranstaltungszentrum Kaiserwinkl [VZK]
REFRESH-INTERVAL;VALUE=DURATION:PT1H
X-Robots-Tag:noindex
X-PUBLISHED-TTL:PT1H
BEGIN:VTIMEZONE
TZID:Europe/Vienna
BEGIN:DAYLIGHT
TZOFFSETFROM:+0100
TZOFFSETTO:+0200
TZNAME:CEST
DTSTART:20230326T010000
END:DAYLIGHT
BEGIN:STANDARD
TZOFFSETFROM:+0200
TZOFFSETTO:+0100
TZNAME:CET
DTSTART:20231029T010000
END:STANDARD
BEGIN:DAYLIGHT
TZOFFSETFROM:+0100
TZOFFSETTO:+0200
TZNAME:CEST
DTSTART:20240331T010000
END:DAYLIGHT
BEGIN:STANDARD
TZOFFSETFROM:+0200
TZOFFSETTO:+0100
TZNAME:CET
DTSTART:20241027T010000
END:STANDARD
BEGIN:DAYLIGHT
TZOFFSETFROM:+0100
TZOFFSETTO:+0200
TZNAME:CEST
DTSTART:20250330T010000
END:DAYLIGHT
BEGIN:STANDARD
TZOFFSETFROM:+0200
TZOFFSETTO:+0100
TZNAME:CET
DTSTART:20251026T010000
END:STANDARD
END:VTIMEZONE
BEGIN:VEVENT
DTSTART;TZID=Europe/Vienna:20240210T200000
DTEND;TZID=Europe/Vienna:20240210T235900
DTSTAMP:20260423T203942
CREATED:20240108T200359Z
LAST-MODIFIED:20240108T200505Z
UID:5692-1707595200-1707609540@www.vz-kaiserwinkl.at
SUMMARY:Faschingsball Vol. 16 des FC KÖSSEN
DESCRIPTION:[vc_row][vc_column][vc_column_text] \n\nVorhang auf für die FCK-Faschingsparty – Klappe die 16.\n\n\nUnter dem Motto Filme vs Serien nehmen wir euch mit auf eine Reise durch die Geschichte von Hollywood\, Netflix und Co.\nVon Marilyn Monroe über Al Bundy bis hin zu den Avengers sind alle hochkarätigen Film- und Serien- Stars anwesend.\n\n\nAm Faschingssamstag 10. Februar 2024 starten die Dreharbeiten zu den kommenden MEGA Blockbustern und Serien-Highlights in den Filmstudios des Veranstaltungszentrum Kaiserwinkl\, bei bestem Sound von „DJ DAVID G“ und exklusivstem Catering durch die Jungs des Fußballclubs Kössen.\n\n\nMit dem passendem Kostüm und den besten schauspielerischen Skills hast du die Chance eine Hauptrolle zu ergattern und den „Eisernen Thron von Westeros“ zu besteigen.\n\n\nBei den anschließenden Oscarverleihungen gibt es auch wieder die begehrten Trophäen und tolle Preise zu gewinnen.\n\n\nPünktlich um 20:00 Uhr zu Mitteleuropäischer Zeit öffnen wir die Pforten und rollen für euch den roten Teppich aus.\n\n\nhttps://www.facebook.com/fckoessen/?locale=de_DE\n[/vc_column_text][/vc_column][/vc_row][vc_row][vc_column width=“1/2″]    \n    	\n                	Karten                \n        \n    \n    [vc_column_text] \nTickets sind ausschließlich an der Abendkassa käuflich zu erwerben.\nbis 21:00Uhr € 6\,-\nab 21:00 Uhr € 9\,-\n\n\nEintritt ab 16 Jahren.\n[/vc_column_text][vc_empty_space height=“50px“][/vc_column][vc_column width=“1/2″][vc_single_image image=“5695″ img_size=“medium“ onclick=“link_image“][/vc_column][/vc_row]
URL:https://www.vz-kaiserwinkl.at/event/fck-faschingsball-24/
LOCATION:VZ Kaiserwinkl\, Postweg 6a\, Kössen\, 6345\, Österreich
CATEGORIES:2024
ATTACH;FMTTYPE=image/jpeg:https://www.vz-kaiserwinkl.at/wp-content/uploads/2024/01/2024_02_Faschingsball.jpg
END:VEVENT
END:VCALENDAR