BEGIN:VCALENDAR
VERSION:2.0
PRODID:-//Veranstaltungszentrum Kaiserwinkl [VZK] - ECPv6.15.20//NONSGML v1.0//EN
CALSCALE:GREGORIAN
METHOD:PUBLISH
X-ORIGINAL-URL:https://www.vz-kaiserwinkl.at
X-WR-CALDESC:Veranstaltungen für Veranstaltungszentrum Kaiserwinkl [VZK]
REFRESH-INTERVAL;VALUE=DURATION:PT1H
X-Robots-Tag:noindex
X-PUBLISHED-TTL:PT1H
BEGIN:VTIMEZONE
TZID:Europe/Vienna
BEGIN:DAYLIGHT
TZOFFSETFROM:+0100
TZOFFSETTO:+0200
TZNAME:CEST
DTSTART:20180325T010000
END:DAYLIGHT
BEGIN:STANDARD
TZOFFSETFROM:+0200
TZOFFSETTO:+0100
TZNAME:CET
DTSTART:20181028T010000
END:STANDARD
BEGIN:DAYLIGHT
TZOFFSETFROM:+0100
TZOFFSETTO:+0200
TZNAME:CEST
DTSTART:20190331T010000
END:DAYLIGHT
BEGIN:STANDARD
TZOFFSETFROM:+0200
TZOFFSETTO:+0100
TZNAME:CET
DTSTART:20191027T010000
END:STANDARD
BEGIN:DAYLIGHT
TZOFFSETFROM:+0100
TZOFFSETTO:+0200
TZNAME:CEST
DTSTART:20200329T010000
END:DAYLIGHT
BEGIN:STANDARD
TZOFFSETFROM:+0200
TZOFFSETTO:+0100
TZNAME:CET
DTSTART:20201025T010000
END:STANDARD
END:VTIMEZONE
BEGIN:VEVENT
DTSTART;TZID=Europe/Vienna:20190711T130000
DTEND;TZID=Europe/Vienna:20190713T200000
DTSTAMP:20260423T190041
CREATED:20190426T115243Z
LAST-MODIFIED:20190426T115243Z
UID:2736-1562850000-1563048000@www.vz-kaiserwinkl.at
SUMMARY:sommer:KIK "Let´s dance! für Jugendliche"
DESCRIPTION:sommer:KIK „Let´s dance! für Jugendliche“\nTanzworkshop mit Kathrin Obermoser (Tiroler Ballettschule) / 3 Tage / 8 – 18 Jahre\n\nBeschreibung:\n \nLet’s dance \nTanzworkshop mit Kathrin Obermoser / Tiroler Ballettschule \nCool tanzen können – wer möchte das nicht? Kathrin Obermoser bietet in ihrem Workshop den Einstieg in angesagtesten Tanzstile. Im Broadwayjazz werden teils Originalmusikstücke aus bekannten Musicals verwendet mit den dazu typischen Choreografien. Beim New Jazz vereinen sich auf aktuelle Musik die neuesten Trends des American- und Funky Jazz. \nKathrin Obermoser besticht durch Ihren heiteren Unterrichtsstil\, der jeden Teilnehmer mitzureißen vermag. Ein MUSS für alle Tanzbegeisterte!! \n  \n11.07. – 13.07.2019 \n\n13.00-14.00       Showtanz Kids 8-11 J\n14.10-15.10        Jazz Kids. 8-11 J\n————————————————————–\n15.20-16.20        Broadwayjazz Jgdl. Ab 12 J\n16.30-17.30        New Jazz Jgdl. Ab 12 J.\n————————————————————–\n17.40-18.40        Broadwayjazz ab 15 J.\n18.50-19.50        New Jazz ab 15 J \n  \n\nFür bewegungsfreudige Tänzerinnen und Tänzer von 8 – 18 Jahren \nBitte mitbringen: bequeme Kleidung und viel Power\nTanzwerkstatt: VZ Kössen\nAbschlusspräsentation: Samstag\, 13.07. (Zeit in Absprache)\nKostenbeitrag: jeweils € 35.-\n\n  \nAnmeldung zu den Workshops:  \n1) auf unserer Homepage http://www.rm-kuusk.at/sommer-kik \n2) telefonisch unter +43/660/244 3086 (Mittwoch 17-19 und Freitag 15-17 Uhr) \nAnmeldung ist erst nach Einzahlung gültig! \n 
URL:https://www.vz-kaiserwinkl.at/event/sommerkik-lets-dance-fuer-jugendliche/
LOCATION:VZ Kaiserwinkl\, Postweg 6a\, Kössen\, 6345\, Österreich
CATEGORIES:2019
ATTACH;FMTTYPE=image/jpeg:https://www.vz-kaiserwinkl.at/wp-content/uploads/2019/04/sommerKIK19.jpg
END:VEVENT
END:VCALENDAR