BEGIN:VCALENDAR
VERSION:2.0
PRODID:-//Veranstaltungszentrum Kaiserwinkl [VZK] - ECPv6.15.20//NONSGML v1.0//EN
CALSCALE:GREGORIAN
METHOD:PUBLISH
X-WR-CALNAME:Veranstaltungszentrum Kaiserwinkl [VZK]
X-ORIGINAL-URL:https://www.vz-kaiserwinkl.at
X-WR-CALDESC:Veranstaltungen für Veranstaltungszentrum Kaiserwinkl [VZK]
REFRESH-INTERVAL;VALUE=DURATION:PT1H
X-Robots-Tag:noindex
X-PUBLISHED-TTL:PT1H
BEGIN:VTIMEZONE
TZID:Europe/Vienna
BEGIN:DAYLIGHT
TZOFFSETFROM:+0100
TZOFFSETTO:+0200
TZNAME:CEST
DTSTART:20180325T010000
END:DAYLIGHT
BEGIN:STANDARD
TZOFFSETFROM:+0200
TZOFFSETTO:+0100
TZNAME:CET
DTSTART:20181028T010000
END:STANDARD
BEGIN:DAYLIGHT
TZOFFSETFROM:+0100
TZOFFSETTO:+0200
TZNAME:CEST
DTSTART:20190331T010000
END:DAYLIGHT
BEGIN:STANDARD
TZOFFSETFROM:+0200
TZOFFSETTO:+0100
TZNAME:CET
DTSTART:20191027T010000
END:STANDARD
BEGIN:DAYLIGHT
TZOFFSETFROM:+0100
TZOFFSETTO:+0200
TZNAME:CEST
DTSTART:20200329T010000
END:DAYLIGHT
BEGIN:STANDARD
TZOFFSETFROM:+0200
TZOFFSETTO:+0100
TZNAME:CET
DTSTART:20201025T010000
END:STANDARD
END:VTIMEZONE
BEGIN:VEVENT
DTSTART;VALUE=DATE:20191030
DTEND;VALUE=DATE:20191104
DTSTAMP:20260423T130704
CREATED:20190701T130619Z
LAST-MODIFIED:20190918T112947Z
UID:2786-1572393600-1572825599@www.vz-kaiserwinkl.at
SUMMARY:ÖSTERREICHISCHE BILLARDMEISTERSCHAFT 2019
DESCRIPTION:Österreichische Billardmeisterschaft\nvom 30. Oktober bis 3. November 2019 in Kössen\n \nVom 30. Oktober bis 3. November finden die Österreichischen\nBillardmeisterschaften in Kössen im VZK statt. \nIn verschiedenen Kategorien kämpfen die Teilnehmer aus ganz Österreich um den\njeweiligen Staatsmeistertitel. \nEs freut uns\, eine weitere überregionale Sportveranstaltung im\nKaiserwinkl begrüßen zu dürfen und wünschen allen Teilnehmern\nviel Erfolg und einen angenehmen Aufenthalt bei uns in\nKössen. \nAllen Zuschauern wünschen wir spannende Wettkämpfe. \nFür das leibliche Wohl der Teilnehmer und Besucher sorgt der\nLarinis Billard Club!\n\nVorläufiges Programm:\n\nMittwoch\, 30.10.19\n13:30 Uhr bis 18:30 Uhr: Einspielzeit der Landesverbände\n18:30 Uhr bis 19:00 Uhr: Delegiertenmeeting\, Auslosung\n19:00 Uhr bis 19:45 Uhr: Eröffnungsfeier\n20:00 Uhr bis 21:30 Uhr: Herren 1. Runde 14.1e \nDonnerstag\, 31.10.19\nab 09:00 Uhr: 14.1e (bis Finale)\nab 13:30 Uhr: 10-Ball (bis Finale)\nWHEELCHAIR\nab 09:00 Uhr: 10-Ball (bis Finale)\nab 16:30 Uhr: 9-Ball \nFreitag\, 1.11.19\nab 09:00 Uhr: 9-Ball (bis Finale)\nab 15:00 Uhr: 8-Ball (bis Finale)\nWHEELCHAIR\nab 12:00 Uhr: 9-Ball (bis Finale)\nab 13:30 Uhr: 8-Ball \nSamstag\, 2.11.19\nab 09:00 Uhr: 8-Ball (1/2 Finale)\nab 10:45 Uhr: Finalmatches in allen Disziplinen\num 20 Uhr: Abschlussbankett (mit allen Siegerehrungen) \nSonntag\, 3.11.19\nab 09:00 Uhr: Landesverbandsteamcup \nEINTRITT FREI!! \n 
URL:https://www.vz-kaiserwinkl.at/event/oesterreichische-billardmeisterschaft-2019/
LOCATION:VZ Kaiserwinkl\, Postweg 6a\, Kössen\, 6345\, Österreich
CATEGORIES:2019
ATTACH;FMTTYPE=image/jpeg:https://www.vz-kaiserwinkl.at/wp-content/uploads/2019/07/Billard2019.jpg
ORGANIZER;CN="Thomas Kirchmaier":MAILTO:t.kirchmaier@vz-kaiserwinkl.at
END:VEVENT
BEGIN:VEVENT
DTSTART;TZID=Europe/Vienna:20191109T180000
DTEND;TZID=Europe/Vienna:20191109T180000
DTSTAMP:20260423T130704
CREATED:20191001T072418Z
LAST-MODIFIED:20191001T072418Z
UID:2841-1573322400-1573322400@www.vz-kaiserwinkl.at
SUMMARY:3. WEINFEST der Musikkapelle KÖSSEN
DESCRIPTION:Die Musikkapelle Kössen freut sich sehr\, alle Weinliebhaber und Freunde der Musik am 9. November 2019 zum 3. WEINFEST nach KÖSSEN einladen zu dürfen. \n  \nMusikalische Unterhaltung von:\nDie Lungauer und Eschenauer Tanzlmusi \nBeginn: 20:00 Uhr\nEinlass: 18:00 Uhr \nEintritt: 10\,- EUR \nMusikkapelle Kössen
URL:https://www.vz-kaiserwinkl.at/event/3-weinfest-der-musikkapelle-koessen/
LOCATION:VZ Kaiserwinkl\, Postweg 6a\, Kössen\, 6345\, Österreich
CATEGORIES:2019
ATTACH;FMTTYPE=image/jpeg:https://www.vz-kaiserwinkl.at/wp-content/uploads/2019/10/Weinfest_19.jpg
ORGANIZER;CN="Musikkapelle K%C3%B6ssen - Martin Thrainer":MAILTO:obmann@mk-koessen.at
END:VEVENT
BEGIN:VEVENT
DTSTART;TZID=Europe/Vienna:20191112T200000
DTEND;TZID=Europe/Vienna:20191112T200000
DTSTAMP:20260423T130704
CREATED:20190214T141209Z
LAST-MODIFIED:20190214T141209Z
UID:2704-1573588800-1573588800@www.vz-kaiserwinkl.at
SUMMARY:Martin Frank
DESCRIPTION:Martin Frank – Es kommt wie’s kommt  \n \nBeschreibung: \nAusgebildeter Standesbeamter\, Kirchenorganist und anschließend noch 3 Jahre auf der Schauspielschule richtig atmen gelernt.\nAber gehört in den Lebenslauf eines jungen Mannes nicht mindestens ein BWL-Studium und eine Backpackingtour (bairisch: Sandlerpause) durch Australien?\nDarf man sich ohne Bachelor überhaupt noch auf die Straße trauen? \nMit 25 noch immer Single\, mit der Tendenz zum „Übrigbleiben“. Stolzer 4-facher Onkel trotzdem froh über das Rückgaberecht.\nAber sollte man mit 25 nicht langsam eine feste Beziehung haben\, der Bausparer zum Einsatz kommen und geklärt sein wie viele Kinderzimmer es braucht?\nIst mit 25 nicht langsam ein Lebensplan erforderlich? \nZumindest hat es Martin in seine eigene Wohnung geschafft.\nWenn auch kleiner als der heimische Hühnerstall wohnt er jetzt anonym 2.0. Heißt: er kennt die Namen der Nachbarn nicht\, dafür aber deren Eisprungkalender.\nIst es überhaupt wichtig seine Nachbarn zu kennen? Oder reicht es sich selbst zu kennen? \nÜber allem steht die Frage: Ist es gut oder schlecht einen Plan vom Leben zu haben?\nFalls ja\, schlecht für Martin\, denn sein aktuelles Lebensmotto: „Es kommt wie’s kommt“ und was nicht kommt braucht’s nicht! \nwww.martinfrank-kabarett.de \nEinlass: 19:00 Uhr \nBeginn: 20:00 Uhr \n  \nVVK 24 € zuzgl. Gebühren \nVorverkauf in allen ÖT-Filialen\, www.oeticket.com  \, in allen Raiffeisen Banken\, sowie print@home Tickets auf www.fg-events.at \nFacebook Eventlink: https://www.facebook.com/events/241317773478179
URL:https://www.vz-kaiserwinkl.at/event/martin-frank/
LOCATION:VZ Kaiserwinkl\, Postweg 6a\, Kössen\, 6345\, Österreich
CATEGORIES:2019
ATTACH;FMTTYPE=image/jpeg:https://www.vz-kaiserwinkl.at/wp-content/uploads/2019/02/MartinFrank.jpg
ORGANIZER;CN="FG Event Productions OG":MAILTO:chris@fg-events.at
END:VEVENT
BEGIN:VEVENT
DTSTART;TZID=Europe/Vienna:20191116T190000
DTEND;TZID=Europe/Vienna:20191116T190000
DTSTAMP:20260423T130704
CREATED:20191001T073022Z
LAST-MODIFIED:20191001T073022Z
UID:2844-1573930800-1573930800@www.vz-kaiserwinkl.at
SUMMARY:Warm Up Party vol. IX - Unterberg-Pass KÖSSEN
DESCRIPTION:WARM UP PARTY VOL. IX \nLIVE on Stage – DAV!D G. – WORK HARD PLAY HARD \nWir freuen uns auf zahlreiche Besucher!\nFür Speis und Trank ist natürlich bestens gesorgt! \nProgramm:\nEinlass in die Grenzlandhalle ab 19:00 Uhr \nEintritt: \n€ 5\,- \n\nWeitere Infos: \nwww.unterbergpass.at
URL:https://www.vz-kaiserwinkl.at/event/warm-up-party-vol-ix-unterberg-pass-koessen/
LOCATION:VZ Kaiserwinkl\, Postweg 6a\, Kössen\, 6345\, Österreich
CATEGORIES:2019
ATTACH;FMTTYPE=image/jpeg:https://www.vz-kaiserwinkl.at/wp-content/uploads/2019/10/UPK_2019.jpg
END:VEVENT
BEGIN:VEVENT
DTSTART;TZID=Europe/Vienna:20191123T120000
DTEND;TZID=Europe/Vienna:20191123T120000
DTSTAMP:20260423T130704
CREATED:20190701T122756Z
LAST-MODIFIED:20190701T122756Z
UID:2775-1574510400-1574510400@www.vz-kaiserwinkl.at
SUMMARY:Original Almrauschklang 2019
DESCRIPTION:Original Almrauschklang \n \nBeschreibung: \nDer Original Almrauschklang bittet zum Tanz. \nProgramm: \n11:30 Uhr: Einlass Grenzlandhalle (warme Küche!)\n12:00 Uhr: Beginn \n  \nKarten erhältlich an der Tageskasse ab 11:30 Uhr \n 
URL:https://www.vz-kaiserwinkl.at/event/original-almrauschklang-2019/
LOCATION:VZ Kaiserwinkl\, Postweg 6a\, Kössen\, 6345\, Österreich
CATEGORIES:2019
ATTACH;FMTTYPE=image/jpeg:https://www.vz-kaiserwinkl.at/wp-content/uploads/2019/07/Almrauschklang2019.jpg
ORGANIZER;CN="Thomas Kirchmaier":MAILTO:t.kirchmaier@vz-kaiserwinkl.at
END:VEVENT
BEGIN:VEVENT
DTSTART;TZID=Europe/Vienna:20191124T133000
DTEND;TZID=Europe/Vienna:20191124T133000
DTSTAMP:20260423T130704
CREATED:20191001T075426Z
LAST-MODIFIED:20191014T102301Z
UID:2847-1574602200-1574602200@www.vz-kaiserwinkl.at
SUMMARY:Tauschmarkt Skiclub Kössen 2019
DESCRIPTION:Tauschmarkt des Skiclub Kössen – Jetzt NEU im VZ Kaiserwinkl\n \nProgramm: \nSo.\, 24. November 2019\nab 9:30 Uhr: Annahme der Artikel\nab 13:30 Uhr: Öffentlicher Tauschmarkt\nab 16:30 Uhr: Abholung der restlichen Artikel \nKaffee\, Kuchen\, Getränke! \nEintritt frei \n 
URL:https://www.vz-kaiserwinkl.at/event/tauschmarkt-skiclub-koessen-2019/
LOCATION:VZ Kaiserwinkl\, Postweg 6a\, Kössen\, 6345\, Österreich
CATEGORIES:2019
ATTACH;FMTTYPE=image/jpeg:https://www.vz-kaiserwinkl.at/wp-content/uploads/2019/10/Tauschmarkt2019.jpg
ORGANIZER;CN="Thomas Kirchmaier":MAILTO:t.kirchmaier@vz-kaiserwinkl.at
END:VEVENT
BEGIN:VEVENT
DTSTART;TZID=Europe/Vienna:20191128T200000
DTEND;TZID=Europe/Vienna:20191128T200000
DTSTAMP:20260423T130704
CREATED:20180418T161522Z
LAST-MODIFIED:20180827T081353Z
UID:2311-1574971200-1574971200@www.vz-kaiserwinkl.at
SUMMARY:ALEX KRISTAN
DESCRIPTION:LEBHAFT – Rotzpipn forever  \n \nBeschreibung: \nEin Glückskeks mit dem Zitat: „Lebe jeden Tag\, als ob es dein letzter wäre.“ als Ursprung des großen Aufstands. Wenn aus einem altbackenen Sprichwort eine Initialzündung zu Ungehorsam und Rebellentum wird\, ja\, zum Leben ohne Limit\, dann wird das Wort „lebhaft“ zum Programm! Im wahrsten Sinne des Wortes. \nUnd warum eigentlich nicht die chinesische Lebensweisheit übernehmen? Wenn gestern angeblich wirklich alles besser war\, warum nicht heute leben\, als gäbe es kein Morgen? \nYin und Yang ins Ungleichgewicht bringen. Raus aus dem Hamsterrad und rein in die Achterbahn. Einmal wirklich sagen\, was man denkt. \nDas kleine Problem an der entfesselten Lebensart: Gesetze kennen sehr wohl ein Morgen. Und so verbringt Alex Kristan nun eine Resozialsierungsnacht auf Staatskosten. Das Publikum hat uneingeschränktes Besuchsrecht und erlebt Alex Kristan eingeschlossen\, aber offen wie nie zuvor. Er kommt drauf\, dass er nie aufgehört hat eine Rotzpipn zu sein.  \nNatürlich sind auch Kristans diverse Alter Egos und Parodien wieder mit von der lebhaften Partie und mengen sich in diesen Käfig voller Narren. \n  \nProgramm: \n19:00 Uhr: Einlass Grenzlandhalle\n20:00 Uhr: Beginn \n  \nKarten: \nKategorie 1: € 34\,-\nKategorie 2: € 28\,-\nReihenbestuhlung\, freie Platzwahl innerhalb der Kategorie \nKarten im regulären Verkauf erhältlich bei oeticket\, bei eventim (D)\, bei den Raiffeisenbanken sowie an der Abendkassa. \n  \nWeitere Infos: \nAlex Kristan
URL:https://www.vz-kaiserwinkl.at/event/alex-kristan/
CATEGORIES:2019
ATTACH;FMTTYPE=image/jpeg:https://www.vz-kaiserwinkl.at/wp-content/uploads/2018/04/AlexKristan.jpg
ORGANIZER;CN="Thomas Kirchmaier":MAILTO:t.kirchmaier@vz-kaiserwinkl.at
END:VEVENT
END:VCALENDAR