BEGIN:VCALENDAR
VERSION:2.0
PRODID:-//Veranstaltungszentrum Kaiserwinkl [VZK] - ECPv6.15.20//NONSGML v1.0//EN
CALSCALE:GREGORIAN
METHOD:PUBLISH
X-ORIGINAL-URL:https://www.vz-kaiserwinkl.at
X-WR-CALDESC:Veranstaltungen für Veranstaltungszentrum Kaiserwinkl [VZK]
REFRESH-INTERVAL;VALUE=DURATION:PT1H
X-Robots-Tag:noindex
X-PUBLISHED-TTL:PT1H
BEGIN:VTIMEZONE
TZID:Europe/Vienna
BEGIN:DAYLIGHT
TZOFFSETFROM:+0100
TZOFFSETTO:+0200
TZNAME:CEST
DTSTART:20190331T010000
END:DAYLIGHT
BEGIN:STANDARD
TZOFFSETFROM:+0200
TZOFFSETTO:+0100
TZNAME:CET
DTSTART:20191027T010000
END:STANDARD
BEGIN:DAYLIGHT
TZOFFSETFROM:+0100
TZOFFSETTO:+0200
TZNAME:CEST
DTSTART:20200329T010000
END:DAYLIGHT
BEGIN:STANDARD
TZOFFSETFROM:+0200
TZOFFSETTO:+0100
TZNAME:CET
DTSTART:20201025T010000
END:STANDARD
BEGIN:DAYLIGHT
TZOFFSETFROM:+0100
TZOFFSETTO:+0200
TZNAME:CEST
DTSTART:20210328T010000
END:DAYLIGHT
BEGIN:STANDARD
TZOFFSETFROM:+0200
TZOFFSETTO:+0100
TZNAME:CET
DTSTART:20211031T010000
END:STANDARD
END:VTIMEZONE
BEGIN:VEVENT
DTSTART;TZID=Europe/Vienna:20200207T200000
DTEND;TZID=Europe/Vienna:20200207T200000
DTSTAMP:20260423T090308
CREATED:20190701T131339Z
LAST-MODIFIED:20190701T131339Z
UID:2790-1581105600-1581105600@www.vz-kaiserwinkl.at
SUMMARY:STEFAN SCHIMMEL
DESCRIPTION:Stefan Schimmel – „I wa gern anders wia de andern“ \n \nBeschreibung: \nWas sein Programm „I wa gern anders wia de andern“\nausmacht\, ist der Spagat zwischen Comedy und Kabarett. \nDiese Veranstaltung war in Bad Reichenhall wegen großer\nNachfrage 13 Mal ausverkauft! \nDer 48-Jährige schlüpft in unterschiedliche Persönlichkeiten\,\ndie sich stets am Rande von Über- und Schwermut\,\nvon „Den kenn ich!“ und „Wer ist das denn?“ bewegen. Am\nliebsten spürt er in verschiedensten Alltagswinkeln die\nAbsurditäten des Lebens auf. \nProgramm: \n19:00 Uhr: Einlass Grenzlandhalle\n20:00 Uhr: Beginn \n  \nKarten: \n€ 29\,-\nReihenbestuhlung\, freie Platzwahl \nKarten im regulären Verkauf erhältlich bei oeticket\, bei eventim (D)\, bei den Raiffeisenbanken sowie an der Abendkassa. \n 
URL:https://www.vz-kaiserwinkl.at/event/stefan-schimmel/
CATEGORIES:2020
ATTACH;FMTTYPE=image/jpeg:https://www.vz-kaiserwinkl.at/wp-content/uploads/2019/07/StefanSchimmel.jpg
ORGANIZER;CN="Thomas Kirchmaier":MAILTO:t.kirchmaier@vz-kaiserwinkl.at
END:VEVENT
BEGIN:VEVENT
DTSTART;TZID=Europe/Vienna:20200215T200000
DTEND;TZID=Europe/Vienna:20200215T200000
DTSTAMP:20260423T090308
CREATED:20200114T072818Z
LAST-MODIFIED:20200114T072818Z
UID:2919-1581796800-1581796800@www.vz-kaiserwinkl.at
SUMMARY:Faschingsball Vol. 14 des FC KÖSSEN
DESCRIPTION:Faschingsball des FC Kössen – MOTTO: Berufe: WO-MEN AT WORK\n \nKarten erhältlich im Vorverkauf (€ 4\,-) bei der Sparkasse Kössen\, der Kegelbahn Kössen und den Spielern des FC Kössen sowie an der Abendkassa (bis 22 Uhr €4\,- // ab 22 Uhr € 6\,-) \nEinlass ab 16 Jahren! \n20:00 Uhr: Einlass Grenzlandhalle \nwww.fc-koessen.com \n  \n 
URL:https://www.vz-kaiserwinkl.at/event/faschingsball-vol-14-des-fc-koessen/
LOCATION:VZ Kaiserwinkl\, Postweg 6a\, Kössen\, 6345\, Österreich
CATEGORIES:2020
ATTACH;FMTTYPE=image/jpeg:https://www.vz-kaiserwinkl.at/wp-content/uploads/2020/01/Faschingsball_2020.jpg
END:VEVENT
BEGIN:VEVENT
DTSTART;TZID=Europe/Vienna:20200225T140000
DTEND;TZID=Europe/Vienna:20200225T140000
DTSTAMP:20260423T090308
CREATED:20200108T095623Z
LAST-MODIFIED:20200108T095623Z
UID:2917-1582639200-1582639200@www.vz-kaiserwinkl.at
SUMMARY:KINDERFASCHING 2020
DESCRIPTION:Der ASV Kössen Volleyball freut sich auf viele Besucher.\n \nProgramm: \n14:00 Uhr: Einlass Grenzlandhalle \nEintritt frei! \n  \n  \n 
URL:https://www.vz-kaiserwinkl.at/event/kinderfasching-2020/
LOCATION:VZ Kaiserwinkl\, Postweg 6a\, Kössen\, 6345\, Österreich
CATEGORIES:2020
ATTACH;FMTTYPE=image/jpeg:https://www.vz-kaiserwinkl.at/wp-content/uploads/2017/11/fasching_hoch.jpg
END:VEVENT
BEGIN:VEVENT
DTSTART;TZID=Europe/Vienna:20200228T200000
DTEND;TZID=Europe/Vienna:20200228T200000
DTSTAMP:20260423T090308
CREATED:20200219T095925Z
LAST-MODIFIED:20200219T101144Z
UID:2953-1582920000-1582920000@www.vz-kaiserwinkl.at
SUMMARY:Kegelbahn: JONOI unplugged
DESCRIPTION:JONOI – LIVE in der Kegelbahn \n \nBeschreibung: \nJONOI\, Heimatsound aus Reit im Winkl. \nWenn man Schubladen suchen möchte\, ist die Band anzusiedeln zwischen Foo Fighters und STS. Im Jahr 2017 gegründet von Josef Neumaier hat die Band 2018 ihre ersten Auftritte. Die Texte gehen tief\, sind zum zuhören gedacht\, die Musik geht hoch und lässt einen nicht still sein. Mundart\, genauer gesagt „Reit im Winklerisch“ wird oft 3 stimmig gesungen. Trompete und Klarinette sind genauso fest im Programm wie E-Gitarre und Rockorgel. Vui Spass\, vui Emotion mit JONOI \n  \nINFO:\nTel. Nr.  0664/9247009 (Bacher Martin) oder per e-mail: kegelbahn@vz-kaiserwinkl.at bzw. direkt in der Kegelbahn. \n  \nEINTRITT FREI!! \n 
URL:https://www.vz-kaiserwinkl.at/event/kegelbahn-janoi-unplugged/
LOCATION:VZ Kaiserwinkl\, Postweg 6a\, Kössen\, 6345\, Österreich
CATEGORIES:2020
ATTACH;FMTTYPE=image/jpeg:https://www.vz-kaiserwinkl.at/wp-content/uploads/2020/02/Janoi.jpg
END:VEVENT
END:VCALENDAR