BEGIN:VCALENDAR
VERSION:2.0
PRODID:-//Veranstaltungszentrum Kaiserwinkl [VZK] - ECPv6.15.20//NONSGML v1.0//EN
CALSCALE:GREGORIAN
METHOD:PUBLISH
X-ORIGINAL-URL:https://www.vz-kaiserwinkl.at
X-WR-CALDESC:Veranstaltungen für Veranstaltungszentrum Kaiserwinkl [VZK]
REFRESH-INTERVAL;VALUE=DURATION:PT1H
X-Robots-Tag:noindex
X-PUBLISHED-TTL:PT1H
BEGIN:VTIMEZONE
TZID:Europe/Vienna
BEGIN:DAYLIGHT
TZOFFSETFROM:+0100
TZOFFSETTO:+0200
TZNAME:CEST
DTSTART:20190331T010000
END:DAYLIGHT
BEGIN:STANDARD
TZOFFSETFROM:+0200
TZOFFSETTO:+0100
TZNAME:CET
DTSTART:20191027T010000
END:STANDARD
BEGIN:DAYLIGHT
TZOFFSETFROM:+0100
TZOFFSETTO:+0200
TZNAME:CEST
DTSTART:20200329T010000
END:DAYLIGHT
BEGIN:STANDARD
TZOFFSETFROM:+0200
TZOFFSETTO:+0100
TZNAME:CET
DTSTART:20201025T010000
END:STANDARD
BEGIN:DAYLIGHT
TZOFFSETFROM:+0100
TZOFFSETTO:+0200
TZNAME:CEST
DTSTART:20210328T010000
END:DAYLIGHT
BEGIN:STANDARD
TZOFFSETFROM:+0200
TZOFFSETTO:+0100
TZNAME:CET
DTSTART:20211031T010000
END:STANDARD
END:VTIMEZONE
BEGIN:VEVENT
DTSTART;TZID=Europe/Vienna:20200501T110000
DTEND;TZID=Europe/Vienna:20200501T110000
DTSTAMP:20260423T052710
CREATED:20200117T093036Z
LAST-MODIFIED:20200406T123505Z
UID:2935-1588330800-1588330800@www.vz-kaiserwinkl.at
SUMMARY:KÖSSENER MAIFEST 2020 - ABGESAGT
DESCRIPTION:AGBESAGT!! \n \nBeschreibung: \nLeider müssen wir die Veranstaltung aus aktuellem Anlass verschieben! \n 
URL:https://www.vz-kaiserwinkl.at/event/koessener-maifest-2020/
LOCATION:VZ Kaiserwinkl\, Postweg 6a\, Kössen\, 6345\, Österreich
CATEGORIES:2020
ATTACH;FMTTYPE=image/jpeg:https://www.vz-kaiserwinkl.at/wp-content/uploads/2017/11/Stefaniefrühschoppen_2017_Web.jpg
ORGANIZER;CN="Musikkapelle K%C3%B6ssen - Martin Thrainer":MAILTO:obmann@mk-koessen.at
END:VEVENT
BEGIN:VEVENT
DTSTART;TZID=Europe/Vienna:20200508T190000
DTEND;TZID=Europe/Vienna:20200508T190000
DTSTAMP:20260423T052710
CREATED:20200117T093245Z
LAST-MODIFIED:20200406T123249Z
UID:2937-1588964400-1588964400@www.vz-kaiserwinkl.at
SUMMARY:MUTTERTAGSKONZERT 2020 der Musikkapelle KÖSSEN - ABGESAGT
DESCRIPTION:AGBESAGT!! \n \nBeschreibung: \nLeider müssen wir die Veranstaltung aus aktuellem Anlass verschieben! \nWeitere Informationen:\n \nMusikkapelle Kössen
URL:https://www.vz-kaiserwinkl.at/event/muttertagskonzert-2020-der-musikkapelle-koessen/
LOCATION:VZ Kaiserwinkl\, Postweg 6a\, Kössen\, 6345\, Österreich
CATEGORIES:2020
ATTACH;FMTTYPE=image/jpeg:https://www.vz-kaiserwinkl.at/wp-content/uploads/2017/11/Muttertagskonzert_2017_Web.jpg
ORGANIZER;CN="Musikkapelle K%C3%B6ssen - Martin Thrainer":MAILTO:obmann@mk-koessen.at
END:VEVENT
BEGIN:VEVENT
DTSTART;TZID=Europe/Vienna:20200522T200000
DTEND;TZID=Europe/Vienna:20200522T200000
DTSTAMP:20260423T052710
CREATED:20190701T134255Z
LAST-MODIFIED:20200406T125223Z
UID:2805-1590177600-1590177600@www.vz-kaiserwinkl.at
SUMMARY:Nocht in Trocht 2020 - ABGESAGT - verschoben auf 20.03.2021
DESCRIPTION:Nocht in Trocht Vol. II – ABGESAGT!! \n \nBeschreibung: \nLeider müssen wir die Veranstaltung aus behördlichen Gründen absagen! \nErsatztermin: 20.03.2021 \nGekaufte Karten behalten für den Ersatztermin Ihre Gültigkeit! \nSollte der Ersatztermin nicht möglich sein\, können die Karten bei der Vorverkaufsstelle wo sie erworben wurden wieder zurückgegeben werden.
URL:https://www.vz-kaiserwinkl.at/event/nocht-in-trocht-2020/
LOCATION:VZ Kaiserwinkl\, Postweg 6a\, Kössen\, 6345\, Österreich
CATEGORIES:2020
ATTACH;FMTTYPE=image/jpeg:https://www.vz-kaiserwinkl.at/wp-content/uploads/2019/07/Nocht-in-Trocht-abgesagt.jpg
ORGANIZER;CN="Thomas Kirchmaier":MAILTO:t.kirchmaier@vz-kaiserwinkl.at
END:VEVENT
END:VCALENDAR