BEGIN:VCALENDAR
VERSION:2.0
PRODID:-//Veranstaltungszentrum Kaiserwinkl [VZK] - ECPv6.15.20//NONSGML v1.0//EN
CALSCALE:GREGORIAN
METHOD:PUBLISH
X-ORIGINAL-URL:https://www.vz-kaiserwinkl.at
X-WR-CALDESC:Veranstaltungen für Veranstaltungszentrum Kaiserwinkl [VZK]
REFRESH-INTERVAL;VALUE=DURATION:PT1H
X-Robots-Tag:noindex
X-PUBLISHED-TTL:PT1H
BEGIN:VTIMEZONE
TZID:Europe/Vienna
BEGIN:DAYLIGHT
TZOFFSETFROM:+0100
TZOFFSETTO:+0200
TZNAME:CEST
DTSTART:20190331T010000
END:DAYLIGHT
BEGIN:STANDARD
TZOFFSETFROM:+0200
TZOFFSETTO:+0100
TZNAME:CET
DTSTART:20191027T010000
END:STANDARD
BEGIN:DAYLIGHT
TZOFFSETFROM:+0100
TZOFFSETTO:+0200
TZNAME:CEST
DTSTART:20200329T010000
END:DAYLIGHT
BEGIN:STANDARD
TZOFFSETFROM:+0200
TZOFFSETTO:+0100
TZNAME:CET
DTSTART:20201025T010000
END:STANDARD
BEGIN:DAYLIGHT
TZOFFSETFROM:+0100
TZOFFSETTO:+0200
TZNAME:CEST
DTSTART:20210328T010000
END:DAYLIGHT
BEGIN:STANDARD
TZOFFSETFROM:+0200
TZOFFSETTO:+0100
TZNAME:CET
DTSTART:20211031T010000
END:STANDARD
END:VTIMEZONE
BEGIN:VEVENT
DTSTART;TZID=Europe/Vienna:20201002T180000
DTEND;TZID=Europe/Vienna:20201002T180000
DTSTAMP:20260422T225730
CREATED:20200219T094101Z
LAST-MODIFIED:20200713T094205Z
UID:2950-1601661600-1601661600@www.vz-kaiserwinkl.at
SUMMARY:VERSCHOBEN - 34. Musikantentreffen
DESCRIPTION:Schweren Herzens müssen wir bekannt geben\, dass leider auch unser Musikantentreffen und das 35-Jahr-Jubiläumsfest der Corona-Pandemie und den damit verbundenen Auflagen zum Opfer fallen. Doch bei dieser Gelegenheit dürfen wir gleich auf den Ersatztermin am 8. und 9. Oktober 2021 hinweisen. Bisher gekaufte Karten für 2020 behalten auch 2021 ihre Gültigkeit\, oder werden rückerstattet. Wir hoffen auf euer Verständnis!\n\n\nEure Klobnstoana\n\nInfoZentrale: Paul Schwentner | E-Mail: paul.schwentner@gmx.at | Mobil: +43/664/8274855\nAndi Kitzbichler | E-Mail: andreas.kitzbichler@gmx.at | Mobil: +43/676/848536581
URL:https://www.vz-kaiserwinkl.at/event/34-musikantentreffen/
LOCATION:VZ Kaiserwinkl\, Postweg 6a\, Kössen\, 6345\, Österreich
CATEGORIES:2020
ATTACH;FMTTYPE=image/jpeg:https://www.vz-kaiserwinkl.at/wp-content/uploads/2020/02/Musikantentreffen2020Verschoben.jpg
ORGANIZER;CN="Paul Schwentner":MAILTO:paul.schwentner@gmx.at
END:VEVENT
BEGIN:VEVENT
DTSTART;TZID=Europe/Vienna:20201003T180000
DTEND;TZID=Europe/Vienna:20201003T180000
DTSTAMP:20260422T225730
CREATED:20200219T093610Z
LAST-MODIFIED:20200713T094722Z
UID:2947-1601748000-1601748000@www.vz-kaiserwinkl.at
SUMMARY:VERSCHOBEN - 35 Jahre Klobnstoana
DESCRIPTION:Schweren Herzens müssen wir bekannt geben\, dass leider auch unser Musikantentreffen und das 35-Jahr-Jubiläumsfest der Corona-Pandemie und den damit verbundenen Auflagen zum Opfer fallen. Doch bei dieser Gelegenheit dürfen wir gleich auf den Ersatztermin am 8. und 9. Oktober 2021 hinweisen. Bisher gekaufte Karten für 2020 behalten auch 2021 ihre Gültigkeit\, oder werden rückerstattet. Wir hoffen auf euer Verständnis!\n\n\nEure Klobnstoana\n\nInfoZentrale: Paul Schwentner | E-Mail: paul.schwentner@gmx.at | Mobil: +43/664/8274855\nStefan Schwentner | E-Mail: info@klobnstoana.at | Mobil: +43/676/4654977 \n 
URL:https://www.vz-kaiserwinkl.at/event/35-jahre-klobnstoana/
LOCATION:VZ Kaiserwinkl\, Postweg 6a\, Kössen\, 6345\, Österreich
CATEGORIES:2020
ATTACH;FMTTYPE=image/jpeg:https://www.vz-kaiserwinkl.at/wp-content/uploads/2020/02/Klobnstoana_Jubiläum_verschoben.jpg
ORGANIZER;CN="Paul Schwentner":MAILTO:paul.schwentner@gmx.at
END:VEVENT
BEGIN:VEVENT
DTSTART;TZID=Europe/Vienna:20201021T200000
DTEND;TZID=Europe/Vienna:20201021T200000
DTSTAMP:20260422T225730
CREATED:20190701T132212Z
LAST-MODIFIED:20201012T063255Z
UID:2796-1603310400-1603310400@www.vz-kaiserwinkl.at
SUMMARY:VERSCHOBEN - CHRIS BOETTCHER
DESCRIPTION:CHRIS BOETTCHER – Immer dieser Druck!\n \nDie Veranstaltung musste leider auf den 10.02.2021 verschoben werden. Karten behalten Ihre Gültigkeit! \n \n  \n 
URL:https://www.vz-kaiserwinkl.at/event/chris-boettcher/
CATEGORIES:2020
ATTACH;FMTTYPE=image/jpeg:https://www.vz-kaiserwinkl.at/wp-content/uploads/2019/07/Boettcher_Verschoben.jpg
ORGANIZER;CN="Thomas Kirchmaier":MAILTO:t.kirchmaier@vz-kaiserwinkl.at
END:VEVENT
BEGIN:VEVENT
DTSTART;TZID=Europe/Vienna:20201030T200000
DTEND;TZID=Europe/Vienna:20201030T200000
DTSTAMP:20260422T225730
CREATED:20190311T141805Z
LAST-MODIFIED:20201012T131810Z
UID:2712-1604088000-1604088000@www.vz-kaiserwinkl.at
SUMMARY:VERSCHOBEN - VIERA BLECH und WüdaraMusi
DESCRIPTION:ACHTUNG: Verschoben auf 29.10.2021!! Karten behalten Ihre Gültigkeit \nVIERA BLECH und WÜDARAMUSI \nBeschreibung: \nUnter dem Titel „Blech trifft Wüd“ spielen die Formationen „VIERA BLECH“ und die „WÜDARAMUSI“ am 30. Oktober in der Grenzlandhalle auf. \nWir freuen uns auf einen gemütlichen und stimmungsvollen Abend! \nProgramm: \n16:00 Uhr: Instrumentenausstellung der Fa. Schagerl im Raiffeisensaal\n18:00 Uhr: Einlass Grenzlandhalle (WARME KÜCHE)\n20:00 Uhr: Beginn \n  \nKarten:\n€19\,- nummerierte Plätze am Biertisch \nKarten im regulären Verkauf erhältlich bei oeticket\, bei eventim (D)\, bei den Raiffeisenbanken sowie an der Abendkassa.
URL:https://www.vz-kaiserwinkl.at/event/viera-blech-und-wuedaramusi/
LOCATION:VZ Kaiserwinkl\, Postweg 6a\, Kössen\, 6345\, Österreich
CATEGORIES:2020
ATTACH;FMTTYPE=image/jpeg:https://www.vz-kaiserwinkl.at/wp-content/uploads/2019/03/VieraBlech_verschoben.jpg
ORGANIZER;CN="Thomas Kirchmaier":MAILTO:t.kirchmaier@vz-kaiserwinkl.at
END:VEVENT
END:VCALENDAR