BEGIN:VCALENDAR
VERSION:2.0
PRODID:-//Veranstaltungszentrum Kaiserwinkl [VZK] - ECPv6.15.20//NONSGML v1.0//EN
CALSCALE:GREGORIAN
METHOD:PUBLISH
X-ORIGINAL-URL:https://www.vz-kaiserwinkl.at
X-WR-CALDESC:Veranstaltungen für Veranstaltungszentrum Kaiserwinkl [VZK]
REFRESH-INTERVAL;VALUE=DURATION:PT1H
X-Robots-Tag:noindex
X-PUBLISHED-TTL:PT1H
BEGIN:VTIMEZONE
TZID:Europe/Vienna
BEGIN:DAYLIGHT
TZOFFSETFROM:+0100
TZOFFSETTO:+0200
TZNAME:CEST
DTSTART:20190331T010000
END:DAYLIGHT
BEGIN:STANDARD
TZOFFSETFROM:+0200
TZOFFSETTO:+0100
TZNAME:CET
DTSTART:20191027T010000
END:STANDARD
BEGIN:DAYLIGHT
TZOFFSETFROM:+0100
TZOFFSETTO:+0200
TZNAME:CEST
DTSTART:20200329T010000
END:DAYLIGHT
BEGIN:STANDARD
TZOFFSETFROM:+0200
TZOFFSETTO:+0100
TZNAME:CET
DTSTART:20201025T010000
END:STANDARD
BEGIN:DAYLIGHT
TZOFFSETFROM:+0100
TZOFFSETTO:+0200
TZNAME:CEST
DTSTART:20210328T010000
END:DAYLIGHT
BEGIN:STANDARD
TZOFFSETFROM:+0200
TZOFFSETTO:+0100
TZNAME:CET
DTSTART:20211031T010000
END:STANDARD
END:VTIMEZONE
BEGIN:VEVENT
DTSTART;TZID=Europe/Vienna:20201119T200000
DTEND;TZID=Europe/Vienna:20201119T200000
DTSTAMP:20260422T214013
CREATED:20191115T094949Z
LAST-MODIFIED:20201103T064303Z
UID:2887-1605816000-1605816000@www.vz-kaiserwinkl.at
SUMMARY:VERSCHOBEN!! THOMAS STIPSITS
DESCRIPTION:VERSCHOBEN!! Thomas Stipsits – „Stinatzer Delikatessen“ musste wegen den aktuellen Maßnahmen leider verschoben werden!! Neuer Termin: 02.12.2021 – Karten behalten die Gültigkeit!\n \n \nBeschreibung: \nAls Thomas Stipsits mit dem Kabarett begann\, hatte er noch keinen Führerschein. Mittlerweile hat er das Triple geschafft: Frau\, Kind und Bausparvertrag. Um dieses Triple zu feiern\, hat er seinen Ranzen voll mit Stinatzer Delikatessen der letzten Programme gepackt und wird an diesem Abend voll und ganz zu Ihrer Verfügung zu stehen. \nEine kleine Werkschau der burgenländisch-steirischen Mischung\, gewürzt mit Ausblicken auf das neue Soloprogramm\, also „Quasi“ ein „Best Of“. \nDabei zeigt Stipsits einmal mehr seine Wandlungsfähigkeit: klassische österreichische Charaktere werden durch Überzeichnung liebevoll und augenzwinkernd aufgeblattelt. Neben all dem bleibt Stipsits natürlich noch genügend Platz\, um sich über Politik und Gesellschaft lustig zu machen\, in verrückten Liedern seine Stimmenimitationen zu präsentieren und mit dem Publikum spontan zu scherzen. Sein „Quasi Best Of“ besticht durch jede Menge Situationskomik und eine abwechslungsreiche Parade absurd-komischer Szenen und Charaktere\, bei denen auch die Selbstironie und Insider-Anekdoten nicht zu kurz kommen. \nProgramm: \n19:00 Uhr: Einlass Grenzlandhalle\n20:00 Uhr: Beginn \n  \nKarten: \n€ 29\,-\nReihenbestuhlung\, freie Platzwahl \nKarten im regulären Verkauf erhältlich in allen Ö-Ticket Filialen\, www.oeticket.com \, in allen Raiffeisen Banken\, sowie print@home Tickets auf www.fg-events.at sowie an der Abendkassa. \n 
URL:https://www.vz-kaiserwinkl.at/event/thomas-stipsits/
CATEGORIES:2020
ATTACH;FMTTYPE=image/jpeg:https://www.vz-kaiserwinkl.at/wp-content/uploads/2019/11/Stipsits.jpg
ORGANIZER;CN="FG Event Productions OG":MAILTO:chris@fg-events.at
END:VEVENT
END:VCALENDAR