BEGIN:VCALENDAR
VERSION:2.0
PRODID:-//Veranstaltungszentrum Kaiserwinkl [VZK] - ECPv6.15.20//NONSGML v1.0//EN
CALSCALE:GREGORIAN
METHOD:PUBLISH
X-ORIGINAL-URL:https://www.vz-kaiserwinkl.at
X-WR-CALDESC:Veranstaltungen für Veranstaltungszentrum Kaiserwinkl [VZK]
REFRESH-INTERVAL;VALUE=DURATION:PT1H
X-Robots-Tag:noindex
X-PUBLISHED-TTL:PT1H
BEGIN:VTIMEZONE
TZID:Europe/Vienna
BEGIN:DAYLIGHT
TZOFFSETFROM:+0100
TZOFFSETTO:+0200
TZNAME:CEST
DTSTART:20200329T010000
END:DAYLIGHT
BEGIN:STANDARD
TZOFFSETFROM:+0200
TZOFFSETTO:+0100
TZNAME:CET
DTSTART:20201025T010000
END:STANDARD
BEGIN:DAYLIGHT
TZOFFSETFROM:+0100
TZOFFSETTO:+0200
TZNAME:CEST
DTSTART:20210328T010000
END:DAYLIGHT
BEGIN:STANDARD
TZOFFSETFROM:+0200
TZOFFSETTO:+0100
TZNAME:CET
DTSTART:20211031T010000
END:STANDARD
BEGIN:DAYLIGHT
TZOFFSETFROM:+0100
TZOFFSETTO:+0200
TZNAME:CEST
DTSTART:20220327T010000
END:DAYLIGHT
BEGIN:STANDARD
TZOFFSETFROM:+0200
TZOFFSETTO:+0100
TZNAME:CET
DTSTART:20221030T010000
END:STANDARD
END:VTIMEZONE
BEGIN:VEVENT
DTSTART;TZID=Europe/Vienna:20210513T200000
DTEND;TZID=Europe/Vienna:20210513T200000
DTSTAMP:20260423T020139
CREATED:20210125T150602Z
LAST-MODIFIED:20210426T062317Z
UID:3072-1620936000-1620936000@www.vz-kaiserwinkl.at
SUMMARY:VERSCHOBEN!! Markus Langer
DESCRIPTION:Die Veranstaltung musste leider auf 2022 verschoben werden!\nMarkus Langer – „Spaßvogel(n)“ – Bayerisches Typenkabarett\n \n \nBeschreibung: \nLeider mussten wir diese Veranstaltung auf den 12.05.2022 verschieben. Die Karten behalten ihre Gültigkeit! \n  \nFacebook Eventlink: https://www.facebook.com \n  \n  \nVeranstalter: www.fg-events.at \n  \n 
URL:https://www.vz-kaiserwinkl.at/event/markus-langer/
LOCATION:VZ Kaiserwinkl\, Postweg 6a\, Kössen\, 6345\, Österreich
CATEGORIES:2021
ATTACH;FMTTYPE=image/jpeg:https://www.vz-kaiserwinkl.at/wp-content/uploads/2021/01/Langer_130521.jpg
ORGANIZER;CN="FG Event Productions OG":MAILTO:chris@fg-events.at
END:VEVENT
END:VCALENDAR